BEGIN:VCALENDAR
VERSION:2.0
PRODID:-//ChamberMaster//Event Calendar 2.0//EN
METHOD:PUBLISH
X-PUBLISHED-TTL:P1H
REFRESH-INTERVAL:P1H
CALSCALE:GREGORIAN
BEGIN:VTIMEZONE
TZID:America/New_York
BEGIN:DAYLIGHT
RRULE:FREQ=YEARLY;BYMONTH=3;BYDAY=2SU
DTSTART:20070101T000000
TZOFFSETFROM:-0500
TZOFFSETTO:-0400
TZNAME:Eastern Daylight Time
END:DAYLIGHT
BEGIN:STANDARD
RRULE:FREQ=YEARLY;BYMONTH=11;BYDAY=1SU
DTSTART:20070101T000000
TZOFFSETFROM:-0400
TZOFFSETTO:-0500
TZNAME:Eastern Standard Time
END:STANDARD
END:VTIMEZONE
BEGIN:VEVENT
DTSTART;TZID=America/New_York:20260519T090000
DTEND;TZID=America/New_York:20260519T150000
X-MICROSOFT-CDO-ALLDAYEVENT:FALSE
SUMMARY:C-Suite Roundtable | Spring
DESCRIPTION:Get ready for the third C-Suite Roundtable where executive leaders from across our four states come together to connect\, collaborate\, and lead. Details coming soon!Please note\, this event is exclusively for C-suite executives. CEOs are encouraged to register for our CEO Roundtable events.For registration assistance\, please contact Amanda Milani at amilani@ccua.org. CCUA is proud to have the Roundtable sponsored by\, and in partnership with\, TruStage and Event Sponsor Strategic Resource Management.
X-ALT-DESC;FMTTYPE=text/html:<!DOCTYPE html><html><head><title></title></head><body aria-disabled="false"><div style='--paragraph-padding-top: 90px\; --paragraph-padding-bottom: 100px\; padding: 0px !important\; position: relative\; background: rgb(255\, 255\, 255)\; color: rgb(12\, 67\, 107)\; font-family: "Open Sans"\, sans-serif\; font-size: 18px\; font-style: normal\; font-variant-ligatures: normal\; font-variant-caps: normal\; font-weight: 400\; letter-spacing: normal\; orphans: 2\; text-align: start\; text-indent: 0px\; text-transform: none\; widows: 2\; word-spacing: 0px\; -webkit-text-stroke-width: 0px\; white-space: normal\; text-decoration-thickness: initial\; text-decoration-style: initial\; text-decoration-color: initial\;'><div data-title="Event Details" style="width: 720px\; max-width: 1260px\; padding: 0px !important\; margin: 0px auto\; box-sizing: border-box\; position: relative\; z-index: 2\;"><div aria-expanded="true" data-tab="6283" style="display: block\; margin-top: 50px\;"><p>Get ready for the third C-Suite Roundtable where executive leaders from across our four states come together to connect\, collaborate\, and lead. Details coming soon!</p><p>Please note\, this event is exclusively for C-suite executives. CEOs are encouraged to register for our CEO Roundtable events.</p><p>For registration assistance\, please contact <strong fr-original-style="" style="font-weight: 700\;">Amanda Milani</strong> at <a fr-original-style="" href="mailto:amilani@ccua.org" style="user-select: auto\;">amilani@ccua.org</a>.&nbsp\;</p><p>CCUA is proud to have the Roundtable sponsored by\, and in partnership with\, TruStage and Event Sponsor Strategic Resource Management.</p></div></div></div><p><br></p></body></html>
LOCATION:70 3rd Ave Waltham MA 02451
UID:e.4610.1430539
SEQUENCE:3
DTSTAMP:20260419T121334Z
URL:https://ccua.growthzoneapp.com/events-calendar/Details/c-suite-roundtable-spring-1692913?sourceTypeId=Hub
END:VEVENT
END:VCALENDAR
