BEGIN:VCALENDAR
VERSION:2.0
PRODID:-//ChamberMaster//Event Calendar 2.0//EN
METHOD:PUBLISH
X-PUBLISHED-TTL:P1H
REFRESH-INTERVAL:P1H
CALSCALE:GREGORIAN
BEGIN:VTIMEZONE
TZID:America/New_York
BEGIN:DAYLIGHT
RRULE:FREQ=YEARLY;BYMONTH=3;BYDAY=2SU
DTSTART:20070101T000000
TZOFFSETFROM:-0500
TZOFFSETTO:-0400
TZNAME:Eastern Daylight Time
END:DAYLIGHT
BEGIN:STANDARD
RRULE:FREQ=YEARLY;BYMONTH=11;BYDAY=1SU
DTSTART:20070101T000000
TZOFFSETFROM:-0400
TZOFFSETTO:-0500
TZNAME:Eastern Standard Time
END:STANDARD
END:VTIMEZONE
BEGIN:VEVENT
DTSTART;TZID=America/New_York:20260514T100000
DTEND;TZID=America/New_York:20260514T110000
X-MICROSOFT-CDO-ALLDAYEVENT:FALSE
SUMMARY:CCUA Info Hub Office Hours
DESCRIPTION:Join our drop-in office hours to get help with CCUA's new Info Hub. Stop by anytime during the session no need to stay the full hour. We'll be available to answer questions\, walk you through features\, and even help you create an account on the spot. Whether you need quick guidance or a deeper walkthrough\, we're here to help.
X-ALT-DESC;FMTTYPE=text/html:<!DOCTYPE html><html><head><title></title></head><body aria-disabled="false"><div data-is-intersecting="true" data-turn-id-container="request-WEB:0ad0b2aa-e854-4dcf-a3fd-e8a0128288eb-0"><section data-scroll-anchor="false" data-testid="conversation-turn-2" data-turn="assistant" data-turn-id="request-WEB:0ad0b2aa-e854-4dcf-a3fd-e8a0128288eb-0" dir="auto"><div data-message-author-role="assistant" data-message-id="9d0b2346-d313-4d59-831c-93c110d266e4" data-message-model-slug="gpt-5-3" data-turn-start-message="true" dir="auto" tabindex="0"><p data-end="326" data-is-last-node="" data-is-only-node="" data-start="0">Join our drop-in office hours to get help with CCUA&rsquo\;s new Info Hub. Stop by anytime during the session&mdash\;no need to stay the full hour. We&rsquo\;ll be available to answer questions\, walk you through features\, and even help you create an account on the spot.&nbsp\;</p><p data-end="326" data-is-last-node="" data-is-only-node="" data-start="0">Whether you need quick guidance or a deeper walkthrough\, we&rsquo\;re here to help.</p></div></section></div></body></html>
LOCATION:
UID:e.4610.1450388
SEQUENCE:3
DTSTAMP:20260425T141355Z
URL:https://ccua.growthzoneapp.com/events-calendar/Details/ccua-info-hub-office-hours-1718033?sourceTypeId=Hub
END:VEVENT
END:VCALENDAR
