BEGIN:VCALENDAR
VERSION:2.0
PRODID:-//ChamberMaster//Event Calendar 2.0//EN
METHOD:PUBLISH
X-PUBLISHED-TTL:P1H
REFRESH-INTERVAL:P1H
CALSCALE:GREGORIAN
BEGIN:VTIMEZONE
TZID:America/New_York
BEGIN:DAYLIGHT
RRULE:FREQ=YEARLY;BYMONTH=3;BYDAY=2SU
DTSTART:20070101T000000
TZOFFSETFROM:-0500
TZOFFSETTO:-0400
TZNAME:Eastern Daylight Time
END:DAYLIGHT
BEGIN:STANDARD
RRULE:FREQ=YEARLY;BYMONTH=11;BYDAY=1SU
DTSTART:20070101T000000
TZOFFSETFROM:-0400
TZOFFSETTO:-0500
TZNAME:Eastern Standard Time
END:STANDARD
END:VTIMEZONE
BEGIN:VEVENT
DTSTART;TZID=America/New_York:20260520T100000
DTEND;TZID=America/New_York:20260520T150000
X-MICROSOFT-CDO-ALLDAYEVENT:FALSE
SUMMARY:CEO Roundtable | Spring
DESCRIPTION:This roundtable will give participating CEOs from across our four states a valuable opportunity to exchange ideas and discuss key issues. The meeting will include an open dialogue and sharing of best practices by CEOs. Details coming soon!Registration is required. For registration assistance\, please contact Amanda Milani at amilani@ccua.org. CCUA is proud to have the Roundtable sponsored by\, and in partnership with\, TruStage and Event Sponsor Strategic Resource Management.
X-ALT-DESC;FMTTYPE=text/html:<!DOCTYPE html><html><head><title></title></head><body aria-disabled="false"><p style='margin: 0px 0px 1rem\; color: rgb(12\, 67\, 107)\; font-family: "Open Sans"\, sans-serif\; font-size: 18px\; font-style: normal\; font-variant-ligatures: normal\; font-variant-caps: normal\; font-weight: 400\; letter-spacing: normal\; orphans: 2\; text-align: start\; text-indent: 0px\; text-transform: none\; widows: 2\; word-spacing: 0px\; -webkit-text-stroke-width: 0px\; white-space: normal\; background-color: rgb(255\, 255\, 255)\; text-decoration-thickness: initial\; text-decoration-style: initial\; text-decoration-color: initial\;'>This roundtable will give participating CEOs from across our four states a valuable opportunity to exchange ideas and discuss key issues. The meeting will include an open dialogue and sharing of best practices by CEOs. Details coming soon!</p><p style='margin: 0px 0px 1rem\; color: rgb(12\, 67\, 107)\; font-family: "Open Sans"\, sans-serif\; font-size: 18px\; font-style: normal\; font-variant-ligatures: normal\; font-variant-caps: normal\; font-weight: 400\; letter-spacing: normal\; orphans: 2\; text-align: start\; text-indent: 0px\; text-transform: none\; widows: 2\; word-spacing: 0px\; -webkit-text-stroke-width: 0px\; white-space: normal\; background-color: rgb(255\, 255\, 255)\; text-decoration-thickness: initial\; text-decoration-style: initial\; text-decoration-color: initial\;'>Registration is required. For registration assistance\, please contact&nbsp\;<strong fr-original-style="" style="font-weight: 700\;">Amanda Milani</strong> at&nbsp\;<a fr-original-style="color: rgb(210\, 151\, 49)\; transition: color 0.2s\, background-color 0.2s\, opacity 0.2s\; text-decoration: underline\;" href="mailto:amilani@ccua.org" style="color: rgb(210\, 151\, 49)\; transition: color 0.2s\, background-color 0.2s\, opacity 0.2s\; text-decoration: underline\; user-select: auto\;" target="_blank">amilani@ccua.org</a>.&nbsp\;</p><p style='margin: 0px 0px 1rem\; color: rgb(12\, 67\, 107)\; font-family: "Open Sans"\, sans-serif\; font-size: 18px\; font-style: normal\; font-variant-ligatures: normal\; font-variant-caps: normal\; font-weight: 400\; letter-spacing: normal\; orphans: 2\; text-align: start\; text-indent: 0px\; text-transform: none\; widows: 2\; word-spacing: 0px\; -webkit-text-stroke-width: 0px\; white-space: normal\; background-color: rgb(255\, 255\, 255)\; text-decoration-thickness: initial\; text-decoration-style: initial\; text-decoration-color: initial\;'>CCUA is proud to have the Roundtable sponsored by\, and in partnership with\, TruStage and Event Sponsor Strategic Resource Management.&nbsp\;</p></body></html>
LOCATION:70 3rd Ave Waltham MA 02451
UID:e.4610.1430590
SEQUENCE:3
DTSTAMP:20260419T114935Z
URL:https://ccua.growthzoneapp.com/events-calendar/Details/ceo-roundtable-spring-1693017?sourceTypeId=Hub
END:VEVENT
END:VCALENDAR
