BEGIN:VCALENDAR
VERSION:2.0
PRODID:-//ChamberMaster//Event Calendar 2.0//EN
METHOD:PUBLISH
X-PUBLISHED-TTL:P1H
REFRESH-INTERVAL:P1H
CALSCALE:GREGORIAN
BEGIN:VTIMEZONE
TZID:America/New_York
BEGIN:DAYLIGHT
RRULE:FREQ=YEARLY;BYMONTH=3;BYDAY=2SU
DTSTART:20070101T000000
TZOFFSETFROM:-0500
TZOFFSETTO:-0400
TZNAME:Eastern Daylight Time
END:DAYLIGHT
BEGIN:STANDARD
RRULE:FREQ=YEARLY;BYMONTH=11;BYDAY=1SU
DTSTART:20070101T000000
TZOFFSETFROM:-0400
TZOFFSETTO:-0500
TZNAME:Eastern Standard Time
END:STANDARD
END:VTIMEZONE
BEGIN:VEVENT
DTSTART;TZID=America/New_York:20270413T103000
DTEND;TZID=America/New_York:20270413T150000
X-MICROSOFT-CDO-ALLDAYEVENT:FALSE
SUMMARY:Cooperative Pickleball Classic | 2027
DESCRIPTION:Join credit union colleagues from across the region for a fun and competitive day on the courts at LTP Pickleball in Easton\, MA! Whether you're a seasoned player or new to the game\, this event is the perfect way to connect\, compete\, and celebrate the cooperative spirit of credit unions. Registration Options: Individual Player: $55 per person Team of Two: $100 per team Guest Ticket: $45 per person Players may register as a team or as an individual. Individual players will be paired with another single registrant\, and team assignments will be shared one week prior to the tournament. Player Limit Participation is limited to 60 players' total. Once capacity is reached\, a waitlist will be available.Event registration is open to member credit unions only. Vendors may reach out to dmartino@ccua.org for sponsorship opportunities and to register.
X-ALT-DESC;FMTTYPE=text/html:<!DOCTYPE html><html><head><title></title></head><body aria-disabled="false"><p>Join credit union colleagues from across the region for a fun and competitive day on the courts at <strong fr-original-style="" style="font-weight: 700\;">LTP Pickleball in Easton\, MA</strong>! Whether you&#39\;re a seasoned player or new to the game\, this event is the perfect way to connect\, compete\, and celebrate the cooperative spirit of credit unions.&nbsp\;</p><p><strong fr-original-style="" style="font-weight: 700\;">Registration Options:</strong> Individual Player: $55 per person Team of Two: $100 per team Guest Ticket: $45 per person Players may register as a team or as an individual. Individual players will be paired with another single registrant\, and team assignments will be shared one week prior to the tournament.&nbsp\;</p><p><strong fr-original-style="" style="font-weight: 700\;">Player Limit Participation is limited to 60 players&#39\; total</strong>. Once capacity is reached\, a waitlist will be available.</p><p>Event registration is open to member credit unions only. Vendors may reach out to <a fr-original-style="" href="mailto:dmartino@ccua.org" style="user-select: auto\;">dmartino@ccua.org</a> for sponsorship opportunities and to register.</p></body></html>
LOCATION:7 Lois Lane Easton MA 02375
UID:e.4610.1444346
SEQUENCE:3
DTSTAMP:20260420T205512Z
URL:https://ccua.growthzoneapp.com/events-calendar/Details/cooperative-pickleball-classic-2027-1710711?sourceTypeId=Hub
END:VEVENT
END:VCALENDAR
