BEGIN:VCALENDAR
VERSION:2.0
PRODID:-//ChamberMaster//Event Calendar 2.0//EN
METHOD:PUBLISH
X-PUBLISHED-TTL:P1H
REFRESH-INTERVAL:P1H
CALSCALE:GREGORIAN
BEGIN:VTIMEZONE
TZID:America/New_York
BEGIN:DAYLIGHT
RRULE:FREQ=YEARLY;BYMONTH=3;BYDAY=2SU
DTSTART:20070101T000000
TZOFFSETFROM:-0500
TZOFFSETTO:-0400
TZNAME:Eastern Daylight Time
END:DAYLIGHT
BEGIN:STANDARD
RRULE:FREQ=YEARLY;BYMONTH=11;BYDAY=1SU
DTSTART:20070101T000000
TZOFFSETFROM:-0400
TZOFFSETTO:-0500
TZNAME:Eastern Standard Time
END:STANDARD
END:VTIMEZONE
BEGIN:VEVENT
DTSTART;TZID=America/New_York:20270513T110000
DTEND;TZID=America/New_York:20270514T150000
X-MICROSOFT-CDO-ALLDAYEVENT:FALSE
SUMMARY:CU Accelerate 2027 | New Castle\, NH
DESCRIPTION:
X-ALT-DESC;FMTTYPE=text/html:
LOCATION:588 Wentworth Rd New Castle NH 03854
UID:e.4610.1447207
SEQUENCE:3
DTSTAMP:20260423T030956Z
URL:https://ccua.growthzoneapp.com/events-calendar/Details/cu-accelerate-2027-new-castle-nh-1714060?sourceTypeId=Hub
END:VEVENT
END:VCALENDAR
